BEGIN:VCALENDAR
VERSION:2.0
PRODID:-//Gewerbeschule - ECPv6.15.20//NONSGML v1.0//EN
CALSCALE:GREGORIAN
METHOD:PUBLISH
X-ORIGINAL-URL:https://www.gewerbeschule-vs.de
X-WR-CALDESC:Veranstaltungen für Gewerbeschule
REFRESH-INTERVAL;VALUE=DURATION:PT1H
X-Robots-Tag:noindex
X-PUBLISHED-TTL:PT1H
BEGIN:VTIMEZONE
TZID:Europe/Berlin
BEGIN:DAYLIGHT
TZOFFSETFROM:+0100
TZOFFSETTO:+0200
TZNAME:CEST
DTSTART:20210328T010000
END:DAYLIGHT
BEGIN:STANDARD
TZOFFSETFROM:+0200
TZOFFSETTO:+0100
TZNAME:CET
DTSTART:20211031T010000
END:STANDARD
BEGIN:DAYLIGHT
TZOFFSETFROM:+0100
TZOFFSETTO:+0200
TZNAME:CEST
DTSTART:20220327T010000
END:DAYLIGHT
BEGIN:STANDARD
TZOFFSETFROM:+0200
TZOFFSETTO:+0100
TZNAME:CET
DTSTART:20221030T010000
END:STANDARD
BEGIN:DAYLIGHT
TZOFFSETFROM:+0100
TZOFFSETTO:+0200
TZNAME:CEST
DTSTART:20230326T010000
END:DAYLIGHT
BEGIN:STANDARD
TZOFFSETFROM:+0200
TZOFFSETTO:+0100
TZNAME:CET
DTSTART:20231029T010000
END:STANDARD
BEGIN:DAYLIGHT
TZOFFSETFROM:+0100
TZOFFSETTO:+0200
TZNAME:CEST
DTSTART:20240331T010000
END:DAYLIGHT
BEGIN:STANDARD
TZOFFSETFROM:+0200
TZOFFSETTO:+0100
TZNAME:CET
DTSTART:20241027T010000
END:STANDARD
BEGIN:DAYLIGHT
TZOFFSETFROM:+0100
TZOFFSETTO:+0200
TZNAME:CEST
DTSTART:20250330T010000
END:DAYLIGHT
BEGIN:STANDARD
TZOFFSETFROM:+0200
TZOFFSETTO:+0100
TZNAME:CET
DTSTART:20251026T010000
END:STANDARD
BEGIN:DAYLIGHT
TZOFFSETFROM:+0100
TZOFFSETTO:+0200
TZNAME:CEST
DTSTART:20260329T010000
END:DAYLIGHT
BEGIN:STANDARD
TZOFFSETFROM:+0200
TZOFFSETTO:+0100
TZNAME:CET
DTSTART:20261025T010000
END:STANDARD
BEGIN:DAYLIGHT
TZOFFSETFROM:+0100
TZOFFSETTO:+0200
TZNAME:CEST
DTSTART:20270328T010000
END:DAYLIGHT
BEGIN:STANDARD
TZOFFSETFROM:+0200
TZOFFSETTO:+0100
TZNAME:CET
DTSTART:20271031T010000
END:STANDARD
END:VTIMEZONE
BEGIN:VEVENT
DTSTART;VALUE=DATE:20260330
DTEND;VALUE=DATE:20260411
DTSTAMP:20260419T222313
CREATED:20210113T121707Z
LAST-MODIFIED:20250912T084609Z
UID:513-1774828800-1775865599@www.gewerbeschule-vs.de
SUMMARY:Osterferien
DESCRIPTION:
URL:https://www.gewerbeschule-vs.de/event/osterferien/
CATEGORIES:Ferien
END:VEVENT
BEGIN:VEVENT
DTSTART;TZID=Europe/Berlin:20260318T134500
DTEND;TZID=Europe/Berlin:20260318T170000
DTSTAMP:20260419T222313
CREATED:20210113T120447Z
LAST-MODIFIED:20250912T085723Z
UID:499-1773841500-1773853200@www.gewerbeschule-vs.de
SUMMARY:GLK 3
DESCRIPTION:
URL:https://www.gewerbeschule-vs.de/event/glk-3/
LOCATION:Aula Standort Villingen\, Conrad-Heby-Str. 1\, Villingen-Schwenningen\, 78048\, Deutschland
CATEGORIES:Konferenzen
END:VEVENT
BEGIN:VEVENT
DTSTART;VALUE=DATE:20260212
DTEND;VALUE=DATE:20260221
DTSTAMP:20260419T222313
CREATED:20210113T121619Z
LAST-MODIFIED:20250912T084708Z
UID:511-1770854400-1771631999@www.gewerbeschule-vs.de
SUMMARY:Fastnachtsferien
DESCRIPTION:
URL:https://www.gewerbeschule-vs.de/event/fastnacht-ferien/
CATEGORIES:Ferien
END:VEVENT
BEGIN:VEVENT
DTSTART;VALUE=DATE:20260202
DTEND;VALUE=DATE:20260203
DTSTAMP:20260419T222313
CREATED:20210113T121306Z
LAST-MODIFIED:20250912T085631Z
UID:507-1769990400-1770076799@www.gewerbeschule-vs.de
SUMMARY:Halbjahreszeugnis
DESCRIPTION:
URL:https://www.gewerbeschule-vs.de/event/halbjahreszeugnis/
CATEGORIES:Zeugnisse
END:VEVENT
BEGIN:VEVENT
DTSTART;TZID=Europe/Berlin:20260116T164500
DTEND;TZID=Europe/Berlin:20260116T180000
DTSTAMP:20260419T222313
CREATED:20220118T101634Z
LAST-MODIFIED:20251119T105759Z
UID:1094-1768581900-1768586400@www.gewerbeschule-vs.de
SUMMARY:Informationsveranstaltung einjähriges Berufskolleg
DESCRIPTION:für das einjährige Berufskolleg zur Fachhochschulreife\nam Standort in Schwenningen\, Erzbergerstraße 28\n78054 VS-Schwenningen\nvon16:45 Uhr am 16. Januar 2026
URL:https://www.gewerbeschule-vs.de/event/informationsveranstaltung-einjaehriges-berufskolleg/
LOCATION:Gewerbeschule VS : Standort  Villingen\, Conrad-Heby-Str. 1\, Villingen-Schwenningen\, 78048\, Deutschland
END:VEVENT
BEGIN:VEVENT
DTSTART;TZID=Europe/Berlin:20260116T160000
DTEND;TZID=Europe/Berlin:20260116T173000
DTSTAMP:20260419T222313
CREATED:20220113T075505Z
LAST-MODIFIED:20251119T105902Z
UID:1079-1768579200-1768584600@www.gewerbeschule-vs.de
SUMMARY:Informationsveranstaltung Technikerschule
DESCRIPTION:Informationsveranstaltungen am Freitag\, 16. Januar 2026 um 16:00 Uhr\n\nfür Technikerschule – Automatisierungstechnik/Mechatronik\nam Standort in Schwenningen\, \nErzbergerstraße 28\n78054 VS-Schwenningen
URL:https://www.gewerbeschule-vs.de/event/informationsveranstaltungen-technikerschule-und-einjaehriges-berufskolleg/
LOCATION:Gewerbeschule VS : Standort Schwenningen\, Erzbergerstraße 28\, Villingen-Schwenningen\, 78054\, Deutschland
CATEGORIES:Infotage
END:VEVENT
BEGIN:VEVENT
DTSTART;TZID=Europe/Berlin:20260113T134500
DTEND;TZID=Europe/Berlin:20260113T170000
DTSTAMP:20260419T222313
CREATED:20210113T120335Z
LAST-MODIFIED:20250912T084803Z
UID:497-1768311900-1768323600@www.gewerbeschule-vs.de
SUMMARY:GLK 2
DESCRIPTION:
URL:https://www.gewerbeschule-vs.de/event/glk-2/
LOCATION:Aula Standort Villingen\, Conrad-Heby-Str. 1\, Villingen-Schwenningen\, 78048\, Deutschland
CATEGORIES:Konferenzen
END:VEVENT
BEGIN:VEVENT
DTSTART;VALUE=DATE:20251222
DTEND;VALUE=DATE:20260107
DTSTAMP:20260419T222313
CREATED:20210914T082440Z
LAST-MODIFIED:20250912T084901Z
UID:995-1766361600-1767743999@www.gewerbeschule-vs.de
SUMMARY:Weihnachtsferien
DESCRIPTION:
URL:https://www.gewerbeschule-vs.de/event/weihnachtsferien/
CATEGORIES:Ferien
END:VEVENT
BEGIN:VEVENT
DTSTART;TZID=Europe/Berlin:20251217T153000
DTEND;TZID=Europe/Berlin:20251217T180000
DTSTAMP:20260419T222313
CREATED:20230621T182506Z
LAST-MODIFIED:20251119T110606Z
UID:1455-1765985400-1765994400@www.gewerbeschule-vs.de
SUMMARY:Abschlussfeier der Berufsschule Winter
DESCRIPTION:Die Abschlussfeier mit Zeugnisübergabe für die Absolventen der Abschlussprüfung W2025/26 findet am Mittwoch den 17.12.2025 um 15:30 Uhr in der Neckarhalle im Stadtbezirk Schwenningen statt. \nNeckarstraße 30\, 78056 Villingen-Schwenningen \nZur Abschlussfeier der Berufsschule sind alle Beteiligten mit Familien herzlichst eingeladen. \n  \n 
URL:https://www.gewerbeschule-vs.de/event/abschlussfeier-der-berufsschule/
LOCATION:Neckarhalle\, Neckarstraße 30\, Villingen-Schwenningen\, 78056\, Deutschland
CATEGORIES:Feierlichkeiten
END:VEVENT
BEGIN:VEVENT
DTSTART;VALUE=DATE:20251111
DTEND;VALUE=DATE:20251114
DTSTAMP:20260419T222313
CREATED:20210914T075945Z
LAST-MODIFIED:20250912T085929Z
UID:985-1762819200-1763078399@www.gewerbeschule-vs.de
SUMMARY:Abschlussprüfung der Berufsschule Winter
DESCRIPTION:Unterrichtsausfall für alle Teilzeitklassen\, aber nur am Standort Villingen!
URL:https://www.gewerbeschule-vs.de/event/abschlusspruefung-der-berufsschule-winter/
CATEGORIES:Feierlichkeiten
END:VEVENT
BEGIN:VEVENT
DTSTART;VALUE=DATE:20251027
DTEND;VALUE=DATE:20260101
DTSTAMP:20260419T222313
CREATED:20210914T075735Z
LAST-MODIFIED:20250912T085016Z
UID:983-1761523200-1767225599@www.gewerbeschule-vs.de
SUMMARY:Herbstferien
DESCRIPTION:
URL:https://www.gewerbeschule-vs.de/event/herbstferien/
CATEGORIES:Ferien
END:VEVENT
BEGIN:VEVENT
DTSTART;TZID=Europe/Berlin:20251016T173000
DTEND;TZID=Europe/Berlin:20251016T173000
DTSTAMP:20260419T222313
CREATED:20210914T075444Z
LAST-MODIFIED:20250912T085125Z
UID:980-1760635800-1760635800@www.gewerbeschule-vs.de
SUMMARY:Ausbilder- und Elternabend in VS-Villingen
DESCRIPTION:Standort Villingen \nDonnerstag\, 16. Oktober 2025 \n17:30 Uhr Versammlung der Ausbilder/innen in der Aula  \n18:30 Uhr Versammlung der Eltern  \nin den entsprechenden Berufsgruppen \nim Klassenzimmer nach Aushang \n  \n 
URL:https://www.gewerbeschule-vs.de/event/ausbilder-und-elternabend-in-vs-villingen/
LOCATION:Gewerbeschule VS : Standort  Villingen\, Conrad-Heby-Str. 1\, Villingen-Schwenningen\, 78048\, Deutschland
CATEGORIES:Sonstige Termine
END:VEVENT
BEGIN:VEVENT
DTSTART;TZID=Europe/Berlin:20251014T183000
DTEND;TZID=Europe/Berlin:20251014T200000
DTSTAMP:20260419T222313
CREATED:20210914T073942Z
LAST-MODIFIED:20250912T085220Z
UID:972-1760466600-1760472000@www.gewerbeschule-vs.de
SUMMARY:Ausbilder- und Elternabend in VS-Schwenningen
DESCRIPTION:Standort Schwenningen \nDienstag\, 14. Oktober 2025 \n18:30 Uhr Versammlung der Ausbilder/innen und Eltern  \nin den entsprechenden Berufsgruppen \nim Klassenzimmer nach Aushang
URL:https://www.gewerbeschule-vs.de/event/ausbilder-und-elternabend-in-vs-schwenningen-es-erfolgt-keine-gesonderte-einladung-fuer-die-ausbilder/
LOCATION:Gewerbeschule VS : Standort Schwenningen\, Erzbergerstraße 28\, Villingen-Schwenningen\, 78054\, Deutschland
CATEGORIES:Sonstige Termine
END:VEVENT
BEGIN:VEVENT
DTSTART;TZID=Europe/Berlin:20251006T180000
DTEND;TZID=Europe/Berlin:20251006T190000
DTSTAMP:20260419T222313
CREATED:20250930T103701Z
LAST-MODIFIED:20250930T103844Z
UID:1822-1759773600-1759777200@www.gewerbeschule-vs.de
SUMMARY:Infoabend Zusatzqualifikation Fachhochschulreife
DESCRIPTION:Infoabend Zusatzqualifikation Fachhochschulreife\nMo. 06.10.2025\, 18:00 Uhr\, Raum 105 VL
URL:https://www.gewerbeschule-vs.de/event/infoabend-zusatzqualifikation-fachhochschulreife/
CATEGORIES:Infotage
END:VEVENT
BEGIN:VEVENT
DTSTART;TZID=Europe/Berlin:20251006T134500
DTEND;TZID=Europe/Berlin:20251006T170000
DTSTAMP:20260419T222313
CREATED:20210914T083512Z
LAST-MODIFIED:20250912T085321Z
UID:998-1759758300-1759770000@www.gewerbeschule-vs.de
SUMMARY:GLK 1
DESCRIPTION:
URL:https://www.gewerbeschule-vs.de/event/glk-1/
LOCATION:Aula Standort Villingen\, Conrad-Heby-Str. 1\, Villingen-Schwenningen\, 78048\, Deutschland
CATEGORIES:Konferenzen
END:VEVENT
BEGIN:VEVENT
DTSTART;TZID=Europe/Berlin:20250912T083000
DTEND;TZID=Europe/Berlin:20250912T120000
DTSTAMP:20260419T222313
CREATED:20240822T142213Z
LAST-MODIFIED:20250912T085415Z
UID:1631-1757665800-1757678400@www.gewerbeschule-vs.de
SUMMARY:Eröffnungskonferenz und Pädagogischer Tag
DESCRIPTION:
URL:https://www.gewerbeschule-vs.de/event/eroeffnungskonferenz-830-uhr-paedagogischer-tag/
CATEGORIES:Konferenzen
END:VEVENT
BEGIN:VEVENT
DTSTART;TZID=Europe/Berlin:20250626T153000
DTEND;TZID=Europe/Berlin:20250626T173000
DTSTAMP:20260419T222313
CREATED:20210914T080033Z
LAST-MODIFIED:20250521T081658Z
UID:987-1750951800-1750959000@www.gewerbeschule-vs.de
SUMMARY:Abschlussfeier der Berufsschule Sommer
DESCRIPTION:
URL:https://www.gewerbeschule-vs.de/event/abschlusspruefung-der-berufsschule-sommer/
LOCATION:Neckarhalle\, Neckarstraße 30\, Villingen-Schwenningen\, 78056\, Deutschland
CATEGORIES:Feierlichkeiten
END:VEVENT
BEGIN:VEVENT
DTSTART;TZID=Europe/Berlin:20250530T080000
DTEND;TZID=Europe/Berlin:20250530T170000
DTSTAMP:20260419T222313
CREATED:20240822T135644Z
LAST-MODIFIED:20240822T135644Z
UID:1629-1748592000-1748624400@www.gewerbeschule-vs.de
SUMMARY:Beweglicher Ferientag 5
DESCRIPTION:
URL:https://www.gewerbeschule-vs.de/event/beweglicher-ferientag-5-2/
CATEGORIES:Ferien
END:VEVENT
BEGIN:VEVENT
DTSTART;TZID=Europe/Berlin:20250204T083000
DTEND;TZID=Europe/Berlin:20250204T130000
DTSTAMP:20260419T222313
CREATED:20211025T084914Z
LAST-MODIFIED:20250114T130219Z
UID:1054-1738657800-1738674000@www.gewerbeschule-vs.de
SUMMARY:Infotag Villingen allgemeinbildende Schulen Klassen 8-10
DESCRIPTION:Beginn für die Klassen ist um 8:30.
URL:https://www.gewerbeschule-vs.de/event/infotag-villingen-allgemeinbildende-schulen-klassen-8-10/
LOCATION:Gewerbeschule VS : Standort  Villingen\, Conrad-Heby-Str. 1\, Villingen-Schwenningen\, 78048\, Deutschland
CATEGORIES:Infotage
END:VEVENT
BEGIN:VEVENT
DTSTART;TZID=Europe/Berlin:20241211T160000
DTEND;TZID=Europe/Berlin:20241211T170000
DTSTAMP:20260419T222313
CREATED:20231013T085711Z
LAST-MODIFIED:20240909T190453Z
UID:1528-1733932800-1733936400@www.gewerbeschule-vs.de
SUMMARY:Schlusskonferenz Berufsschulabschlussprüfung Winter
DESCRIPTION:Schlusskonferenz der Abschlussprüfung der Berufsschule Winter 2024/25 für alle\nKlassenlehrer\, Chemiesaal R105 VL 16:00 Uhr (Zeugnisdatum 11.12.2024)
URL:https://www.gewerbeschule-vs.de/event/schlusskonferenz-berufsschulabschlusspruefung-winter/
END:VEVENT
BEGIN:VEVENT
DTSTART;VALUE=DATE:20241004
DTEND;VALUE=DATE:20241005
DTSTAMP:20260419T222313
CREATED:20231013T085158Z
LAST-MODIFIED:20240822T135535Z
UID:1524-1728000000-1728086399@www.gewerbeschule-vs.de
SUMMARY:Beweglicher Ferientag 1
DESCRIPTION:
URL:https://www.gewerbeschule-vs.de/event/beweglicher-ferientag-5/
CATEGORIES:Ferien
END:VEVENT
BEGIN:VEVENT
DTSTART;TZID=Europe/Berlin:20230719T140000
DTEND;TZID=Europe/Berlin:20230719T180000
DTSTAMP:20260419T222313
CREATED:20230621T121234Z
LAST-MODIFIED:20230621T121234Z
UID:1453-1689775200-1689789600@www.gewerbeschule-vs.de
SUMMARY:LOK-Sitzung Mechatronik/Metall
DESCRIPTION:Mittwoch den19.07.23 um 14 Uhr in der Aula am Standort Villingen in der Conrad Heby Str.1.
URL:https://www.gewerbeschule-vs.de/event/lok-sitzung-mechatronik-metall/
LOCATION:Aula Standort Villingen\, Conrad-Heby-Str. 1\, Villingen-Schwenningen\, 78048\, Deutschland
CATEGORIES:Sonstige Termine
END:VEVENT
BEGIN:VEVENT
DTSTART;TZID=Europe/Berlin:20230614T160000
DTEND;TZID=Europe/Berlin:20230614T163000
DTSTAMP:20260419T222313
CREATED:20230328T083413Z
LAST-MODIFIED:20231013T085525Z
UID:1410-1686758400-1686760200@www.gewerbeschule-vs.de
SUMMARY:Schlusskonferenz Berufsschulabschlussprüfung Sommer
DESCRIPTION:
URL:https://www.gewerbeschule-vs.de/event/schlusskonferenz-berufsschulabschlusspruefung/
LOCATION:Gewerbeschule VS : Standort  Villingen\, Conrad-Heby-Str. 1\, Villingen-Schwenningen\, 78048\, Deutschland
END:VEVENT
BEGIN:VEVENT
DTSTART;TZID=Europe/Berlin:20221214T153000
DTEND;TZID=Europe/Berlin:20221214T170000
DTSTAMP:20260419T222313
CREATED:20201117T185940Z
LAST-MODIFIED:20221130T082313Z
UID:75-1671031800-1671037200@www.gewerbeschule-vs.de
SUMMARY:Entlassfeier
DESCRIPTION:
URL:https://www.gewerbeschule-vs.de/event/entlassfeier/
LOCATION:Münsterzentrum Villingen\, Kanzleigasse 10\, Villingen-Schwenningen\, 78050
CATEGORIES:Feierlichkeiten
END:VEVENT
BEGIN:VEVENT
DTSTART;TZID=Europe/Berlin:20221122T083000
DTEND;TZID=Europe/Berlin:20221122T123000
DTSTAMP:20260419T222313
CREATED:20211025T084716Z
LAST-MODIFIED:20221117T093412Z
UID:1052-1669105800-1669120200@www.gewerbeschule-vs.de
SUMMARY:Infotag Schwenningen allgemeinbildende Schulen Klassen 8-10
DESCRIPTION:Gewerbeschule VS . Conrad-Heby-Str.1   . 78048 VS-Villingen \n. Erzberger Straße 28 . 78054 VS-Schwenningen\n\n\n\n\n\n\n  Gewerbeschule VS \nStadtbezirk schwenningen \n  \nAnschrift \nerzbergerstr. 28 \n78054 Villingen-Schwenningen \n  \nSvjetlan Magazinovic \nTelefon 07720 8558-3 \nTelefax 07720 8558-513 \nmagazinovic.s@gewerbeschule-vs.de\n\n\n\n\n\n\n\n\n\n\n\nOktober 2022/Ms/AB\n\n  \nEinladung zu den Berufsinformationstagen unserer Schule \n  \n  \n\n\n\n \n\n\n\n  \nan den Standorten Schwenningen und Villingen \n  \nSehr geehrte Damen und Herren\, \n  \nfür die Berufsorientierung der Schülerinnen und Schüler der allgemeinbildenden Schulen finden an unseren beiden Schulstandorten in Schwenningen und Villingen Berufsinformationstage statt. Hier bieten Schüler und Lehrer unserer Schule allen einen Einblick in die acht verschiedenen Fachbereiche. \nHierzu lade ich Sie\, Ihr Kollegium und Ihre Schülerinnen und Schüler ab Klasse 8 sehr herzlich ein. Wir werden Sie in Kleingruppen (10-14 Personen) an die einzelnen Stationen führen. Zusätzlich zu Ihren Lehrkräften bitten wir Sie\, dass eine weitere Begleitperson eine Klasse bei der Führung betreut. \nDamit wir die Veranstaltung gut vorbereiten können\, ist eine verbindliche Anmeldung mit Anzahl der Teilnehmer bis zum Montag\, 14.11.22 notwendig. Sie erhalten von uns Rückmeldung\, in welches Zeitfenster wir Sie einplanen. \n  \n\n\n\nStandort Schwenningen\nDienstag\, 22. November 2022 \n \n \nStandort Villingen\nDienstag\, 29. November 2022\n\n\nElektrotechnik\nMechatronik \nKörperpflege \nNahrung \nBerufsfachschulen\n \nKFZ-Mechatronik\nAnlagenmechanik \nElektrotechnik \nMetalltechnik \nBerufsfachschulen\n\n\n\n  \nBitte melden Sie sich mit dem beiliegenden Anmeldeformular an\, bei Fragen wenden Sie sich bitte an Herrn Brugger\, E-Mail: brugger.c@gewerbeschule-vs.de oder telefonisch an das Sekretariat. \n  \nMit freundlichem Gruß \n  \n  \n  \nSvjetlan Magazinović\, OStD \nSchulleiter
URL:https://www.gewerbeschule-vs.de/event/infotag-schwenningen-allgemeinbildende-schulen-klassen-8-10/
LOCATION:Gewerbeschule VS : Standort Schwenningen\, Erzbergerstraße 28\, Villingen-Schwenningen\, 78054\, Deutschland
CATEGORIES:Infotage
END:VEVENT
BEGIN:VEVENT
DTSTART;TZID=Europe/Berlin:20220323T080000
DTEND;TZID=Europe/Berlin:20220323T130000
DTSTAMP:20260419T222313
CREATED:20220222T112511Z
LAST-MODIFIED:20220222T112931Z
UID:1156-1648022400-1648040400@www.gewerbeschule-vs.de
SUMMARY:Azubi-Speed-Dating (Mausclick für mehr Info)
DESCRIPTION:Wir veranstalten am Mittwoch\, den 23. März vormittags bei uns an der Gewerbeschule VS am Standort in Schwenningen ein Azubi-Speed-Dating für offene Ausbildungsstellen im Bereich des Lebensmittelhandwerks. (Ausbildung zur Fleischerin/zum Fleischer oder zur Fachverkäufer*in im Lebensmittelhandwerk) \nHierbei werden sich 6-7 Firmen kurz den SchülerInnen präsentieren und im Anschluss finden 5-Minuten-Gespräche zwischen 2-3 Schülerinnen und den einzelnen Betrieben an jeweils einem Tisch statt. So kommen alle Jugendlichen persönlich in Kontakt mit allen Betrieben und Entscheidern. \nWir werden an diesem Vormittag drei bis vier Durchläufe zu je 60 bis 75 Minuten mit jeweils 10-15 Jugendlichen stattfinden lassen. \nWir sprechen hier Schülerinnen und Schüler an\, die für September einen Ausbildungsplatz suchen. \nZiel dieses Azubi-Speed-Datings ist natürlich die Vermittlung möglichst vieler Schülerinnen und Schüler in ein Ausbildungsverhältnis. \nInteressierte Schülerinnen und Schüler können sich hier mit Angabe von Name und Adresse bis zum 16. März anmelden:  \nschwenningen@gewerbeschule-vs.de  (Betreff „Azubi-Speed-Dating“) \n[Download nicht gefunden.]
URL:https://www.gewerbeschule-vs.de/event/azubi-speed-dating-mausclick-fuer-mehr-info/
LOCATION:Gewerbeschule VS : Standort Schwenningen\, Erzbergerstraße 28\, Villingen-Schwenningen\, 78054\, Deutschland
END:VEVENT
END:VCALENDAR